BEGIN:VCALENDAR
VERSION:2.0
PRODID:-//www.admidio.org//Admidio3.3.10//DE
CALSCALE:GREGORIAN
METHOD:PUBLISH
X-WR-TIMEZONE:Australia/Sydney
BEGIN:VTIMEZONE
TZID:Australia/Sydney
X-LIC-LOCATION:Australia/Sydney
BEGIN:STANDARD
DTSTART:19701025T030000
TZOFFSETFROM:+0200
TZOFFSETTO:+0100
TZNAME:CET
RRULE:FREQ=YEARLY;BYDAY=-1SU;BYMONTH=10
END:STANDARD
BEGIN:DAYLIGHT
DTSTART:19700329T020000
TZOFFSETFROM:+0100
TZOFFSETTO:+0200
TZNAME:CEST
RRULE:FREQ=YEARLY;BYDAY=-1SU;BYMONTH=3
END:DAYLIGHT
END:VTIMEZONE
BEGIN:VEVENT
CREATED:20241028T095430
LAST-MODIFIED:
UID:20241028T095430+32@www.rhhso.cweb.com.au
SUMMARY:Christmas Concert 2024
DESCRIPTION:
DTSTAMP:20260423T163340
LOCATION:North Ryde School of Arts Community Centre [201 Coxs Rd\, North Ryde 2113]
DTSTART;TZID=Australia/Sydney:20241201T120000
DTEND;TZID=Australia/Sydney:20241201T170000
END:VEVENT
END:VCALENDAR